BEGIN:VCALENDAR
VERSION:2.0
PRODID:-//Taunussteiner Kirchenmusik - ECPv6.15.20//NONSGML v1.0//EN
CALSCALE:GREGORIAN
METHOD:PUBLISH
X-WR-CALNAME:Taunussteiner Kirchenmusik
X-ORIGINAL-URL:https://www.taunussteiner-kantorei.de
X-WR-CALDESC:Veranstaltungen für Taunussteiner Kirchenmusik
REFRESH-INTERVAL;VALUE=DURATION:PT1H
X-Robots-Tag:noindex
X-PUBLISHED-TTL:PT1H
BEGIN:VTIMEZONE
TZID:Europe/Paris
BEGIN:DAYLIGHT
TZOFFSETFROM:+0100
TZOFFSETTO:+0200
TZNAME:CEST
DTSTART:20250330T010000
END:DAYLIGHT
BEGIN:STANDARD
TZOFFSETFROM:+0200
TZOFFSETTO:+0100
TZNAME:CET
DTSTART:20251026T010000
END:STANDARD
BEGIN:DAYLIGHT
TZOFFSETFROM:+0100
TZOFFSETTO:+0200
TZNAME:CEST
DTSTART:20260329T010000
END:DAYLIGHT
BEGIN:STANDARD
TZOFFSETFROM:+0200
TZOFFSETTO:+0100
TZNAME:CET
DTSTART:20261025T010000
END:STANDARD
BEGIN:DAYLIGHT
TZOFFSETFROM:+0100
TZOFFSETTO:+0200
TZNAME:CEST
DTSTART:20270328T010000
END:DAYLIGHT
BEGIN:STANDARD
TZOFFSETFROM:+0200
TZOFFSETTO:+0100
TZNAME:CET
DTSTART:20271031T010000
END:STANDARD
END:VTIMEZONE
BEGIN:VEVENT
DTSTART;TZID=Europe/Paris:20260510T180000
DTEND;TZID=Europe/Paris:20260510T193000
DTSTAMP:20260424T145557
CREATED:20251215T154008Z
LAST-MODIFIED:20251215T154008Z
UID:5355-1778436000-1778441400@www.taunussteiner-kantorei.de
SUMMARY:Gospelkonzert mit Rejoice!
DESCRIPTION:weitere Infos folgen …
URL:https://www.taunussteiner-kantorei.de/event/gospelkonzert-mit-rejoice-13/
LOCATION:Ev. Kirche Wehen\, Mainzer Allee 15\, Taunusstein\, 65232
CATEGORIES:Gospel
ATTACH;FMTTYPE=image/jpeg:https://www.taunussteiner-kantorei.de/wp-content/uploads/2025/11/WhatsApp-Image-2023-03-26-at-20.09.50.jpeg
ORGANIZER;CN="Ev. Dekanat Rheingau-Taunus":MAILTO:kantor@projektchor.de
END:VEVENT
END:VCALENDAR