BEGIN:VCALENDAR
VERSION:2.0
PRODID:-//Taunussteiner Kirchenmusik - ECPv6.15.20//NONSGML v1.0//EN
CALSCALE:GREGORIAN
METHOD:PUBLISH
X-WR-CALNAME:Taunussteiner Kirchenmusik
X-ORIGINAL-URL:https://www.taunussteiner-kantorei.de
X-WR-CALDESC:Veranstaltungen für Taunussteiner Kirchenmusik
REFRESH-INTERVAL;VALUE=DURATION:PT1H
X-Robots-Tag:noindex
X-PUBLISHED-TTL:PT1H
BEGIN:VTIMEZONE
TZID:Europe/Paris
BEGIN:DAYLIGHT
TZOFFSETFROM:+0100
TZOFFSETTO:+0200
TZNAME:CEST
DTSTART:20240331T010000
END:DAYLIGHT
BEGIN:STANDARD
TZOFFSETFROM:+0200
TZOFFSETTO:+0100
TZNAME:CET
DTSTART:20241027T010000
END:STANDARD
BEGIN:DAYLIGHT
TZOFFSETFROM:+0100
TZOFFSETTO:+0200
TZNAME:CEST
DTSTART:20250330T010000
END:DAYLIGHT
BEGIN:STANDARD
TZOFFSETFROM:+0200
TZOFFSETTO:+0100
TZNAME:CET
DTSTART:20251026T010000
END:STANDARD
BEGIN:DAYLIGHT
TZOFFSETFROM:+0100
TZOFFSETTO:+0200
TZNAME:CEST
DTSTART:20260329T010000
END:DAYLIGHT
BEGIN:STANDARD
TZOFFSETFROM:+0200
TZOFFSETTO:+0100
TZNAME:CET
DTSTART:20261025T010000
END:STANDARD
END:VTIMEZONE
BEGIN:VEVENT
DTSTART;TZID=Europe/Paris:20251214T180000
DTEND;TZID=Europe/Paris:20251214T190000
DTSTAMP:20260424T193130
CREATED:20250705T083909Z
LAST-MODIFIED:20250705T083909Z
UID:5263-1765735200-1765738800@www.taunussteiner-kantorei.de
SUMMARY:EvenSong
DESCRIPTION:Musik\, Lesungen\, Stille.\nMit Mitgliedern der Taunussteiner Kantorei\, Leitung\, Klavier und Orgel: Thomas Wächter\nTexte: Pfarrerin Ingrid Wächter & Team
URL:https://www.taunussteiner-kantorei.de/event/evensong-16/
LOCATION:Ev. Kirche Wehen\, Mainzer Allee 15\, Taunusstein\, 65232
END:VEVENT
END:VCALENDAR