BEGIN:VCALENDAR
VERSION:2.0
PRODID:-//Taunussteiner Kirchenmusik - ECPv6.15.20//NONSGML v1.0//EN
CALSCALE:GREGORIAN
METHOD:PUBLISH
X-ORIGINAL-URL:https://www.taunussteiner-kantorei.de
X-WR-CALDESC:Veranstaltungen für Taunussteiner Kirchenmusik
REFRESH-INTERVAL;VALUE=DURATION:PT1H
X-Robots-Tag:noindex
X-PUBLISHED-TTL:PT1H
BEGIN:VTIMEZONE
TZID:Europe/Paris
BEGIN:DAYLIGHT
TZOFFSETFROM:+0100
TZOFFSETTO:+0200
TZNAME:CEST
DTSTART:20240331T010000
END:DAYLIGHT
BEGIN:STANDARD
TZOFFSETFROM:+0200
TZOFFSETTO:+0100
TZNAME:CET
DTSTART:20241027T010000
END:STANDARD
BEGIN:DAYLIGHT
TZOFFSETFROM:+0100
TZOFFSETTO:+0200
TZNAME:CEST
DTSTART:20250330T010000
END:DAYLIGHT
BEGIN:STANDARD
TZOFFSETFROM:+0200
TZOFFSETTO:+0100
TZNAME:CET
DTSTART:20251026T010000
END:STANDARD
BEGIN:DAYLIGHT
TZOFFSETFROM:+0100
TZOFFSETTO:+0200
TZNAME:CEST
DTSTART:20260329T010000
END:DAYLIGHT
BEGIN:STANDARD
TZOFFSETFROM:+0200
TZOFFSETTO:+0100
TZNAME:CET
DTSTART:20261025T010000
END:STANDARD
END:VTIMEZONE
BEGIN:VEVENT
DTSTART;TZID=Europe/Paris:20251130T110000
DTEND;TZID=Europe/Paris:20251130T120000
DTSTAMP:20260424T210628
CREATED:20251111T135649Z
LAST-MODIFIED:20251111T135649Z
UID:5308-1764500400-1764504000@www.taunussteiner-kantorei.de
SUMMARY:Gottesdienst zum 1. Advent mit Posaunen und Orgel
DESCRIPTION:Einen festlichen Gottesdienst zum 1. Advent feiert die Ev. Kirchengemeinde Wehen am 30.11. um 11:00 Uhr in der Weher Kirche. Pfarrerin Ingrid Wächter gestaltet den Gottesdienst. Musikalisch begleitet wird der Gottesdienst vom Posaunenchor Bleidenstadt unter der Leitung von Alexander Miliavsky. An der Orgel ist Kantor Thomas Wächter zu hören.\nHerzliche Einladung!!! \n 
URL:https://www.taunussteiner-kantorei.de/event/gottesdienst-zum-1-advent-mit-posaunen-und-orgel/
LOCATION:Ev. Kirche Wehen\, Mainzer Allee 15\, Taunusstein\, 65232
ATTACH;FMTTYPE=image/jpeg:https://www.taunussteiner-kantorei.de/wp-content/uploads/2025/11/IMG_2266.jpg
END:VEVENT
END:VCALENDAR